BEGIN:VCALENDAR
VERSION:2.0
PRODID:-//thebluebench.org//NONSGML kigkonsult.se iCalcreator 2.30.10//
CALSCALE:GREGORIAN
METHOD:PUBLISH
UID:ac3ca47c-b981-4908-a085-2621876a4ea4
X-WR-CALDESC:Change on Tap is a month-long awareness campaign hosted annual
 ly by The Blue Bench. Change on Tap educates the public about the relation
 ship between alcohol and sexual violence\, eliminates the stigma around al
 cohol-involved sexual assault\, and empowers alcohol-serving establishment
 s to strengthen their prevention and safety.
X-WR-RELCALID:c7a2883b4a93439b2069d7b186ee128c
X-WR-TIMEZONE:America/Denver
BEGIN:VTIMEZONE
TZID:America/Denver
BEGIN:STANDARD
TZNAME:MST
DTSTART:20241103T020000
TZOFFSETFROM:-0600
TZOFFSETTO:-0700
RDATE:20251102T020000
RDATE:20261101T020000
END:STANDARD
BEGIN:DAYLIGHT
TZNAME:MDT
DTSTART:20250309T020000
TZOFFSETFROM:-0700
TZOFFSETTO:-0600
RDATE:20260308T020000
RDATE:20270314T020000
END:DAYLIGHT
END:VTIMEZONE
BEGIN:VEVENT
UID:6bdfbe75-9082-4841-b6db-eeec28fdbe29
DTSTAMP:20260419T181713Z
DESCRIPTION:Change on Tap is a month-long awareness campaign hosted annuall
 y by The Blue Bench. Change on Tap educates the public about the relations
 hip between alcohol and sexual violence\, eliminates the stigma around alc
 ohol-involved sexual assault\, and empowers alcohol-serving establishments
  to strengthen their prevention and safety.
DTSTART;TZID=America/Denver:20251101T040000
DTEND;TZID=America/Denver:20251130T040001
LOCATION:
SUMMARY:Change on Tap Awareness Campaign
END:VEVENT
END:VCALENDAR
