BEGIN:VCALENDAR
VERSION:2.0
PRODID:-//thebluebench.org//NONSGML kigkonsult.se iCalcreator 2.30.10//
CALSCALE:GREGORIAN
METHOD:PUBLISH
UID:a6c506e2-b996-4652-a0ee-5ce7b06f0068
X-WR-CALDESC:Empower yourself and your community with tools to recognize wa
 rning signs and prevent sexual violence in bars and alcohol-serving spaces
 .\n\n•	Learn about the role of alcohol\n•	Discover practical safety strategi
 es \n•	Recognize red flags \n•	Explore bystander intervention techniques
X-WR-RELCALID:982bffe50c38eb24ded807c87e268d05
X-WR-TIMEZONE:America/Denver
BEGIN:VTIMEZONE
TZID:America/Denver
BEGIN:STANDARD
TZNAME:MST
DTSTART:20251102T020000
TZOFFSETFROM:-0600
TZOFFSETTO:-0700
RDATE:20261101T020000
END:STANDARD
BEGIN:DAYLIGHT
TZNAME:MDT
DTSTART:20250309T020000
TZOFFSETFROM:-0700
TZOFFSETTO:-0600
RDATE:20260308T020000
RDATE:20270314T020000
END:DAYLIGHT
END:VTIMEZONE
BEGIN:VEVENT
UID:a8f17b99-053c-4d3a-b6df-2a4c86763423
DTSTAMP:20260419T182219Z
DESCRIPTION:Empower yourself and your community with tools to recognize war
 ning signs and prevent sexual violence in bars and alcohol-serving spaces.
 \n\n•	Learn about the role of alcohol\n•	Discover practical safety strategie
 s \n•	Recognize red flags \n•	Explore bystander intervention techniques
DTSTART;TZID=America/Denver:20251105T120000
DTEND;TZID=America/Denver:20251105T130000
LOCATION:https://us06web.zoom.us/webinar/register/5317598866774/WN_lJJUQDkH
 Q8y3ItkQk-h4sQ
SUMMARY:Webinar: Preventing Sexual Violence in Spaces with Alcohol
END:VEVENT
END:VCALENDAR
