BEGIN:VCALENDAR
VERSION:2.0
PRODID:-//thebluebench.org//NONSGML kigkonsult.se iCalcreator 2.30.10//
CALSCALE:GREGORIAN
METHOD:PUBLISH
UID:a5e32d7e-d3a4-41ca-9cc1-6719191e96f0
X-WR-CALDESC:Brunch with a purpose! Enjoy a Drag Brunch Fundraiser benefiti
 ng The Blue Bench survivor support services & prevention education program
 s.\n\nOn November 8th\, we're taking over X Bar from 12:00 to 2:00 PM for 
 a dazzling drag brunch in honor of The Blue Bench's Change on Tap awarenes
 s campaign.\n\nCheer on phenomenal performances from LaLa Queen and Lulu K
 rystals while sipping mimosas and savoring brunch favorites.\n\nChoose the
  VIP experience for bottomless mimosas\, early silent auction access\, and
  a special Change on Tap pint glass to take home.\n\nWe'll be sharing vita
 l resources on prevention education and the work of The Blue Bench\, makin
 g this a powerful and joyful day contributing to a world free from sexual 
 assault.\n\nIf cost is a barrier\, please contact Carolyn at cferrick@theb
 luebench.org
X-WR-RELCALID:3d9453a50fcdd03ec78c639e08c7d5c8
X-WR-TIMEZONE:America/Denver
BEGIN:VTIMEZONE
TZID:America/Denver
BEGIN:STANDARD
TZNAME:MST
DTSTART:20251102T020000
TZOFFSETFROM:-0600
TZOFFSETTO:-0700
RDATE:20261101T020000
END:STANDARD
BEGIN:DAYLIGHT
TZNAME:MDT
DTSTART:20250309T020000
TZOFFSETFROM:-0700
TZOFFSETTO:-0600
RDATE:20260308T020000
RDATE:20270314T020000
END:DAYLIGHT
END:VTIMEZONE
BEGIN:VEVENT
UID:5adf2d27-422f-45d5-8b95-619c3d810db0
DTSTAMP:20260419T182250Z
DESCRIPTION:Brunch with a purpose! Enjoy a Drag Brunch Fundraiser benefitin
 g The Blue Bench survivor support services & prevention education programs
 .\n\nOn November 8th\, we're taking over X Bar from 12:00 to 2:00 PM for a
  dazzling drag brunch in honor of The Blue Bench's Change on Tap awareness
  campaign.\n\nCheer on phenomenal performances from LaLa Queen and Lulu Kr
 ystals while sipping mimosas and savoring brunch favorites.\n\nChoose the 
 VIP experience for bottomless mimosas\, early silent auction access\, and 
 a special Change on Tap pint glass to take home.\n\nWe'll be sharing vital
  resources on prevention education and the work of The Blue Bench\, making
  this a powerful and joyful day contributing to a world free from sexual a
 ssault.\n\nIf cost is a barrier\, please contact Carolyn at cferrick@thebl
 uebench.org
DTSTART;TZID=America/Denver:20251108T120000
DTEND;TZID=America/Denver:20251108T140000
LOCATION:629 E Colfax Ave\, Denver\, AL 80203 US
SUMMARY:Drag Queen Brunch Fundraiser for The Blue Bench!
END:VEVENT
END:VCALENDAR
