BEGIN:VCALENDAR
VERSION:2.0
PRODID:-//thebluebench.org//NONSGML kigkonsult.se iCalcreator 2.30.10//
CALSCALE:GREGORIAN
METHOD:PUBLISH
UID:a4d26f70-4c97-47b4-9a48-349727b124ac
X-WR-CALDESC:We're calling on YOU to become a changemaker! Donate what you 
 can\, share our mission\, or create a peer-to-peer fundraising page for Th
 e Blue Bench to stand with survivors\, ensure that no one is ever alone\, 
 and that prevention education continues to create a safer future for all.
 \n\nColorado Gives Day reminds us that change doesn't happen because of on
 e giant act\, but because of countless small acts within a community!\n\nš
 $50 supports three survivors contacting our 24/7 Crisis Hotline and online
  chat\nš$100 supports our community outreach events.\nšø$250 provides survi
 vors with case management and resource navigation.\nš500 provides one grou
 p therapy session.\n
X-WR-RELCALID:d1c2a4fc5cbf03627314e2bd22a7e64d
X-WR-TIMEZONE:America/Denver
BEGIN:VTIMEZONE
TZID:America/Denver
BEGIN:STANDARD
TZNAME:MST
DTSTART:20251102T020000
TZOFFSETFROM:-0600
TZOFFSETTO:-0700
RDATE:20261101T020000
END:STANDARD
BEGIN:DAYLIGHT
TZNAME:MDT
DTSTART:20250309T020000
TZOFFSETFROM:-0700
TZOFFSETTO:-0600
RDATE:20260308T020000
RDATE:20270314T020000
END:DAYLIGHT
END:VTIMEZONE
BEGIN:VEVENT
UID:b77c8033-d4cd-45e6-9fea-7bfe141e067c
DTSTAMP:20260419T170818Z
DESCRIPTION:We're calling on YOU to become a changemaker! Donate what you c
 an\, share our mission\, or create a peer-to-peer fundraising page for The
  Blue Bench to stand with survivors\, ensure that no one is ever alone\, a
 nd that prevention education continues to create a safer future for all.\n
 \nColorado Gives Day reminds us that change doesn't happen because of one 
 giant act\, but because of countless small acts within a community!\n\nš$5
 0 supports three survivors contacting our 24/7 Crisis Hotline and online c
 hat\nš$100 supports our community outreach events.\nšø$250 provides survivo
 rs with case management and resource navigation.\nš500 provides one group 
 therapy session.\n
DTSTART;TZID=America/Denver:20251209T040000
DTEND;TZID=America/Denver:20251209T040001
LOCATION:https://www.coloradogives.org/organization/thebluebench
SUMMARY:Colorado Gives Day!
END:VEVENT
END:VCALENDAR
